BEGIN:VCALENDAR
VERSION:2.0
PRODID:-//Filmhuis Mechelen - ECPv4.3.1.1//NONSGML v1.0//EN
CALSCALE:GREGORIAN
METHOD:PUBLISH
X-WR-CALNAME:Filmhuis Mechelen
X-ORIGINAL-URL:https://www.filmhuismechelen.be
X-WR-CALDESC:Events for Filmhuis Mechelen
BEGIN:VEVENT
DTSTART;TZID=UTC+2:20171219T203000
DTEND;TZID=UTC+2:20171219T203000
DTSTAMP:20260425T161305
CREATED:20171018T130009Z
LAST-MODIFIED:20171018T130009Z
UID:8413-1513715400-1513715400@www.filmhuismechelen.be
SUMMARY:ZAGROS
DESCRIPTION:Twee vertoningen!\nVertoning 1 om 18u30.\nVertoning 2 om 20u30.\n
URL:https://www.filmhuismechelen.be/vertoning/zagros/
CATEGORIES:De dinsdagen van het Filmhuis,Programma
END:VEVENT
END:VCALENDAR