BEGIN:VCALENDAR
VERSION:2.0
PRODID:-//Filmhuis Mechelen - ECPv4.3.1.1//NONSGML v1.0//EN
CALSCALE:GREGORIAN
METHOD:PUBLISH
X-WR-CALNAME:Filmhuis Mechelen
X-ORIGINAL-URL:https://www.filmhuismechelen.be
X-WR-CALDESC:Events for Filmhuis Mechelen
BEGIN:VEVENT
DTSTART;TZID=UTC+2:20180116T203000
DTEND;TZID=UTC+2:20180116T203000
DTSTAMP:20260425T155301
CREATED:20171129T181810Z
LAST-MODIFIED:20171129T181810Z
UID:8719-1516134600-1516134600@www.filmhuismechelen.be
SUMMARY:YOU WERE NEVER REALLY HERE
DESCRIPTION:TWEE VERTONINGEN!\nVertoning 1 om 18u30.\nVertoning 2 om 20u30.\n\n
URL:https://www.filmhuismechelen.be/vertoning/you-were-never-really-here-2/
CATEGORIES:De dinsdagen van het Filmhuis,Programma
END:VEVENT
END:VCALENDAR