BEGIN:VCALENDAR
VERSION:2.0
PRODID:-//Filmhuis Mechelen - ECPv4.3.1.1//NONSGML v1.0//EN
CALSCALE:GREGORIAN
METHOD:PUBLISH
X-WR-CALNAME:Filmhuis Mechelen
X-ORIGINAL-URL:https://www.filmhuismechelen.be
X-WR-CALDESC:Events for Filmhuis Mechelen
BEGIN:VEVENT
DTSTART;TZID=UTC+2:20190122T183000
DTEND;TZID=UTC+2:20190122T183000
DTSTAMP:20260421T195101
CREATED:20181128T180709Z
LAST-MODIFIED:20190117T014743Z
UID:10898-1548181800-1548181800@www.filmhuismechelen.be
SUMMARY:WOMAN AT WAR
DESCRIPTION:Vertoningen:\nDINSDAG 22 JANUARI om 18u30.\nMAANDAG 28 JANUARI om 20u30.\n\nAlle info\, trailer en recensies vindt u HIER!\n\nEen organisatie i.s.m. Klimaan\n\n
URL:https://www.filmhuismechelen.be/vertoning/woman-at-war/
CATEGORIES:De dinsdagen van het Filmhuis,Programma
END:VEVENT
END:VCALENDAR