BEGIN:VCALENDAR
VERSION:2.0
PRODID:-//Filmhuis Mechelen - ECPv4.3.1.1//NONSGML v1.0//EN
CALSCALE:GREGORIAN
METHOD:PUBLISH
X-WR-CALNAME:Filmhuis Mechelen
X-ORIGINAL-URL:https://www.filmhuismechelen.be
X-WR-CALDESC:Events for Filmhuis Mechelen
BEGIN:VEVENT
DTSTART;TZID=UTC+2:20190114T183000
DTEND;TZID=UTC+2:20190114T183000
DTSTAMP:20260422T031623
CREATED:20181116T182108Z
LAST-MODIFIED:20190109T014530Z
UID:10812-1547490600-1547490600@www.filmhuismechelen.be
SUMMARY:WILDLIFE
DESCRIPTION:Vertoning:\nMAANDAG 14 JANUARI om 18u30. \n\n
URL:https://www.filmhuismechelen.be/vertoning/wildlife-3/
CATEGORIES:Programma
END:VEVENT
END:VCALENDAR