BEGIN:VCALENDAR
VERSION:2.0
PRODID:-//Filmhuis Mechelen - ECPv4.3.1.1//NONSGML v1.0//EN
CALSCALE:GREGORIAN
METHOD:PUBLISH
X-WR-CALNAME:Filmhuis Mechelen
X-ORIGINAL-URL:https://www.filmhuismechelen.be
X-WR-CALDESC:Events for Filmhuis Mechelen
BEGIN:VEVENT
DTSTART;TZID=UTC+2:20190108T203000
DTEND;TZID=UTC+2:20190108T203000
DTSTAMP:20260423T102956
CREATED:20181116T182018Z
LAST-MODIFIED:20181116T182018Z
UID:10810-1546979400-1546979400@www.filmhuismechelen.be
SUMMARY:WILDLIFE
DESCRIPTION:Vertoningen:\nDINSDAG 8 JANUARI om 18u30.\nDINSDAG 8 JANUARI om 20u30.\nMAANDAG 14 JANUARI om 18u30. \n\n\n
URL:https://www.filmhuismechelen.be/vertoning/wildlife-2/
CATEGORIES:De dinsdagen van het Filmhuis,Programma
END:VEVENT
END:VCALENDAR