BEGIN:VCALENDAR
VERSION:2.0
PRODID:-//Filmhuis Mechelen - ECPv4.3.1.1//NONSGML v1.0//EN
CALSCALE:GREGORIAN
METHOD:PUBLISH
X-WR-CALNAME:Filmhuis Mechelen
X-ORIGINAL-URL:https://www.filmhuismechelen.be
X-WR-CALDESC:Events for Filmhuis Mechelen
BEGIN:VEVENT
DTSTART;TZID=UTC+2:20200225T183000
DTEND;TZID=UTC+2:20200225T183000
DTSTAMP:20260420T191751
CREATED:20200114T185332Z
LAST-MODIFIED:20200211T152405Z
UID:13598-1582655400-1582655400@www.filmhuismechelen.be
SUMMARY:THE WILD GOOSE LAKE
DESCRIPTION:Vertoningen:\nMAANDAG 24 FEBRUARI om 20u30.\nDINSDAG 25 FEBRUARI om 18u30.\n\nALLE INFO\, TRAILER & RECENSIES HIER!\n\n\nKijkwijzer:\n\n\n 
URL:https://www.filmhuismechelen.be/vertoning/wild-goose-lake-2/
CATEGORIES:Programma
END:VEVENT
END:VCALENDAR