BEGIN:VCALENDAR
VERSION:2.0
PRODID:-//Filmhuis Mechelen - ECPv4.3.1.1//NONSGML v1.0//EN
CALSCALE:GREGORIAN
METHOD:PUBLISH
X-WR-CALNAME:Filmhuis Mechelen
X-ORIGINAL-URL:https://www.filmhuismechelen.be
X-WR-CALDESC:Events for Filmhuis Mechelen
BEGIN:VEVENT
DTSTART;TZID=UTC+2:20180918T203000
DTEND;TZID=UTC+2:20180918T203000
DTSTAMP:20260421T181012
CREATED:20180816T184402Z
LAST-MODIFIED:20180905T123518Z
UID:10140-1537302600-1537302600@www.filmhuismechelen.be
SUMMARY:WIJ - avant-première!
DESCRIPTION:Drie vertoningen!\nDINSDAG 18 SEPTEMBER om 18u30.\nDINSDAG 18 SEPTEMBER om 20u30.\n\nExclusieve avant-premières in aanwezigheid van (o.v.) hoofdrolspeler Tijmen Govaerts en Elvis Peeters\, auteur van het gelijknamige boek.\n\nExtra vertoning:\nMAANDAG 8 OKTOBER om 18u30.\n\nAlle info\, trailer en recensies van deze film vindt u HIER!\n\n\n
URL:https://www.filmhuismechelen.be/vertoning/wij-avant-premiere/
CATEGORIES:De dinsdagen van het Filmhuis,Programma
END:VEVENT
END:VCALENDAR