BEGIN:VCALENDAR
VERSION:2.0
PRODID:-//Filmhuis Mechelen - ECPv4.3.1.1//NONSGML v1.0//EN
CALSCALE:GREGORIAN
METHOD:PUBLISH
X-WR-CALNAME:Filmhuis Mechelen
X-ORIGINAL-URL:https://www.filmhuismechelen.be
X-WR-CALDESC:Events for Filmhuis Mechelen
BEGIN:VEVENT
DTSTART;TZID=UTC+2:20220620T183000
DTEND;TZID=UTC+2:20220620T183000
DTSTAMP:20260423T194936
CREATED:20220513T142013Z
LAST-MODIFIED:20220531T184219Z
UID:25672-1655749800-1655749800@www.filmhuismechelen.be
SUMMARY:WHEEL OF FORTUNE AND FANTASY
DESCRIPTION:\nVertoning:\nMAANDAG 20 JUNI om 18u30 - tickets voor deze vertoning HIER!\n\n \n\nTIP: koop eerst een SEIZOENSKAART\, en bespaar zo 2 euro per ticket.\n\nAlle info\, trailer & recensies HIER!\n\n
URL:https://www.filmhuismechelen.be/vertoning/wheel-of-fortune-and-fantasy-3/
LOCATION:Minderbroedersgang 5\, Mechelen\, 2800
CATEGORIES:Programma
END:VEVENT
END:VCALENDAR