BEGIN:VCALENDAR
VERSION:2.0
PRODID:-//Filmhuis Mechelen - ECPv4.3.1.1//NONSGML v1.0//EN
CALSCALE:GREGORIAN
METHOD:PUBLISH
X-WR-CALNAME:Filmhuis Mechelen
X-ORIGINAL-URL:https://www.filmhuismechelen.be
X-WR-CALDESC:Events for Filmhuis Mechelen
BEGIN:VEVENT
DTSTART;TZID=UTC+2:20190408T190000
DTEND;TZID=UTC+2:20190408T190000
DTSTAMP:20260421T131548
CREATED:20190311T150325Z
LAST-MODIFIED:20190315T074913Z
UID:11647-1554750000-1554750000@www.filmhuismechelen.be
SUMMARY:WERK OHNE AUTOR
DESCRIPTION:Vertoning:\nMAANDAG 8 APRIL om 19u00.\n\nAlle info en trailer HIER!\n\n
URL:https://www.filmhuismechelen.be/vertoning/werk-ohne-autor/
CATEGORIES:Programma
END:VEVENT
END:VCALENDAR