BEGIN:VCALENDAR
VERSION:2.0
PRODID:-//Filmhuis Mechelen - ECPv4.3.1.1//NONSGML v1.0//EN
CALSCALE:GREGORIAN
METHOD:PUBLISH
X-WR-CALNAME:Filmhuis Mechelen
X-ORIGINAL-URL:https://www.filmhuismechelen.be
X-WR-CALDESC:Events for Filmhuis Mechelen
BEGIN:VEVENT
DTSTART;TZID=UTC+2:20191105T185000
DTEND;TZID=UTC+2:20191105T185000
DTSTAMP:20260421T012709
CREATED:20190927T160235Z
LAST-MODIFIED:20191016T202742Z
UID:12684-1572979800-1572979800@www.filmhuismechelen.be
SUMMARY:WE WILL REMEMBER THEM
DESCRIPTION:Vertoning:\nDINSDAG 5 NOVEMBER om 18u50.\nLet op het ongewone beginuur!\n\nALLE INFO\, TRAILER & RECENSIES HIER!\n\n
URL:https://www.filmhuismechelen.be/vertoning/we-will-remember-them/
CATEGORIES:De dinsdagen van het Filmhuis,Documentaire,Programma
END:VEVENT
END:VCALENDAR