BEGIN:VCALENDAR
VERSION:2.0
PRODID:-//Filmhuis Mechelen - ECPv4.3.1.1//NONSGML v1.0//EN
CALSCALE:GREGORIAN
METHOD:PUBLISH
X-WR-CALNAME:Filmhuis Mechelen
X-ORIGINAL-URL:https://www.filmhuismechelen.be
X-WR-CALDESC:Events for Filmhuis Mechelen
BEGIN:VEVENT
DTSTART;TZID=UTC+2:20220329T190000
DTEND;TZID=UTC+2:20220329T190000
DTSTAMP:20260421T022456
CREATED:20220220T194722Z
LAST-MODIFIED:20220329T174202Z
UID:24760-1648580400-1648580400@www.filmhuismechelen.be
SUMMARY:WE TWO - LA BANDA ITALIANA
DESCRIPTION:Vertoning:\n- DINSDAG 29 MAART om 20u30 - TICKETS voor deze vertoning HIER!\n\nTIP: koop eerst een SEIZOENSKAART\, en bespaar zo 2 euro per ticket.\n\nVertoningen aanwezigheid van regisseur Remo Perrotti\, en gevolgd door een avond vol Italiaanse ambiance\, met een gratis drankje voor iedereen en een live-optreden van het onnavolgbare WE TWO.\n\nALLE INFO\, TRAILER & RECENSIES HIER!\n\n\n\nhttps://www.youtube.com/watch?v=HXC1c2YlnS8
URL:https://www.filmhuismechelen.be/vertoning/we-two-la-banda-italiana/
LOCATION:Minderbroedersgang 5\, Mechelen\, 2800
CATEGORIES:De dinsdagen van het Filmhuis,Documentaire,Programma
END:VEVENT
END:VCALENDAR