BEGIN:VCALENDAR
VERSION:2.0
PRODID:-//Filmhuis Mechelen - ECPv4.3.1.1//NONSGML v1.0//EN
CALSCALE:GREGORIAN
METHOD:PUBLISH
X-WR-CALNAME:Filmhuis Mechelen
X-ORIGINAL-URL:https://www.filmhuismechelen.be
X-WR-CALDESC:Events for Filmhuis Mechelen
BEGIN:VEVENT
DTSTART;TZID=UTC+2:20190225T200000
DTEND;TZID=UTC+2:20190225T200000
DTSTAMP:20260421T165234
CREATED:20190117T231741Z
LAST-MODIFIED:20190225T075931Z
UID:11243-1551124800-1551124800@www.filmhuismechelen.be
SUMMARY:WE DOEN HET GEWOON ZELF - première!
DESCRIPTION:\n\nPremièrevertoningen:\nMAANDAG 25 FEBRUARI om 18u30\nMAANDAG 25 FEBRUARI om 20u00\nMAANDAG 25 FEBRUARI om 21u30\nExtra vertoningen:\nDINSDAG 26 FEBRUARI om 18u30\nWOENSDAG 27 FEBRUARI om 21u00\n\nAlle info over deze vertoning vindt u HIER!\n\nIn samenwerking met Deklat Binnen.\n\n
URL:https://www.filmhuismechelen.be/vertoning/we-doen-het-gewoon-zelf-premiere-2/
CATEGORIES:Documentaire,Programma
END:VEVENT
END:VCALENDAR