BEGIN:VCALENDAR
VERSION:2.0
PRODID:-//Filmhuis Mechelen - ECPv4.3.1.1//NONSGML v1.0//EN
CALSCALE:GREGORIAN
METHOD:PUBLISH
X-WR-CALNAME:Filmhuis Mechelen
X-ORIGINAL-URL:https://www.filmhuismechelen.be
X-WR-CALDESC:Events for Filmhuis Mechelen
BEGIN:VEVENT
DTSTART;TZID=UTC+2:20190226T183000
DTEND;TZID=UTC+2:20190226T183000
DTSTAMP:20260421T151326
CREATED:20190118T095746Z
LAST-MODIFIED:20190226T001236Z
UID:11252-1551205800-1551205800@www.filmhuismechelen.be
SUMMARY:WE DOEN HET GEWOON ZELF 
DESCRIPTION:\n\nVertoningen:\nDINSDAG 26 FEBRUARI om 18u30\nWOENSDAG 27 FEBRUARI om 21u00\n\nAlle info over deze vertoning vindt u HIER!\n\nIn samenwerking met Deklat Binnen.\n\n
URL:https://www.filmhuismechelen.be/vertoning/we-doen-het-gewoon-zelf-extra-vertoning/
CATEGORIES:De dinsdagen van het Filmhuis,Documentaire,Programma
END:VEVENT
END:VCALENDAR