BEGIN:VCALENDAR
VERSION:2.0
PRODID:-//Filmhuis Mechelen - ECPv4.3.1.1//NONSGML v1.0//EN
CALSCALE:GREGORIAN
METHOD:PUBLISH
X-WR-CALNAME:Filmhuis Mechelen
X-ORIGINAL-URL:https://www.filmhuismechelen.be
X-WR-CALDESC:Events for Filmhuis Mechelen
BEGIN:VEVENT
DTSTART;TZID=UTC+2:20171023T203000
DTEND;TZID=UTC+2:20171023T203000
DTSTAMP:20260425T191418
CREATED:20170825T152037Z
LAST-MODIFIED:20170825T152037Z
UID:8027-1508790600-1508790600@www.filmhuismechelen.be
SUMMARY:VISAGES VILLAGES
DESCRIPTION:Vertoning om 20u30.\n\n\n
URL:https://www.filmhuismechelen.be/vertoning/visages-villages/
CATEGORIES:Programma
END:VEVENT
END:VCALENDAR