BEGIN:VCALENDAR
VERSION:2.0
PRODID:-//Filmhuis Mechelen - ECPv4.3.1.1//NONSGML v1.0//EN
CALSCALE:GREGORIAN
METHOD:PUBLISH
X-WR-CALNAME:Filmhuis Mechelen
X-ORIGINAL-URL:https://www.filmhuismechelen.be
X-WR-CALDESC:Events for Filmhuis Mechelen
BEGIN:VEVENT
DTSTART;TZID=UTC+2:20190423T203000
DTEND;TZID=UTC+2:20190423T203000
DTSTAMP:20260421T162259
CREATED:20190306T200403Z
LAST-MODIFIED:20190422T184629Z
UID:11558-1556051400-1556051400@www.filmhuismechelen.be
SUMMARY:VICE
DESCRIPTION:Vertoning:\nDINSDAG 23 APRIL om 20u30.\n\nAlle info\, trailer en recensies HIER!\n\n\n\n 
URL:https://www.filmhuismechelen.be/vertoning/vice/
CATEGORIES:De dinsdagen van het Filmhuis
END:VEVENT
END:VCALENDAR