BEGIN:VCALENDAR
VERSION:2.0
PRODID:-//Filmhuis Mechelen - ECPv4.3.1.1//NONSGML v1.0//EN
CALSCALE:GREGORIAN
METHOD:PUBLISH
X-WR-CALNAME:Filmhuis Mechelen
X-ORIGINAL-URL:https://www.filmhuismechelen.be
X-WR-CALDESC:Events for Filmhuis Mechelen
BEGIN:VEVENT
DTSTART;TZID=UTC+2:20171114T203000
DTEND;TZID=UTC+2:20171114T203000
DTSTAMP:20260425T180500
CREATED:20170825T140413Z
LAST-MODIFIED:20171026T221841Z
UID:8012-1510691400-1510691400@www.filmhuismechelen.be
SUMMARY:UNA MUJER FANTASTICA
DESCRIPTION:DRIE VERTONINGEN!\nDinsdag 14/11 om 18u30.\nDinsdag 14/11 om 20u30.\nMaandag 20/11 om 18u30.\n\nAlle info over deze voorstelling vindt u HIER.\n\nEen organisatie in het kader van het Holebifilmfestival 2017!\nIn samenwerking met HLWM.\n\n\n\n
URL:https://www.filmhuismechelen.be/vertoning/una-mujer-fantastica-2/
CATEGORIES:De dinsdagen van het Filmhuis,Programma
END:VEVENT
END:VCALENDAR