BEGIN:VCALENDAR
VERSION:2.0
PRODID:-//Filmhuis Mechelen - ECPv4.3.1.1//NONSGML v1.0//EN
CALSCALE:GREGORIAN
METHOD:PUBLISH
X-WR-CALNAME:Filmhuis Mechelen
X-ORIGINAL-URL:https://www.filmhuismechelen.be
X-WR-CALDESC:Events for Filmhuis Mechelen
BEGIN:VEVENT
DTSTART;TZID=UTC+2:20211220T193000
DTEND;TZID=UTC+2:20211220T193000
DTSTAMP:20260423T015715
CREATED:20211130T134927Z
LAST-MODIFIED:20211214T191942Z
UID:23800-1640028600-1640028600@www.filmhuismechelen.be
SUMMARY:UN TRIOMPHE
DESCRIPTION:Vertoning:\nMAANDAG 20 DECEMBER om 19u30 - tickets voor deze vertoning HIER!\n\nLET OP HET ONGEWONE AANVANGSUUR!\n\nALLE INFO & TRAILER HIER!\n\nTIP: met de FILMHUIS-SEIZOENSKAART krijgt u een korting van 2 euro per voorstelling op onze reguliere avondvertoningen. U koopt ze HIER!\n\n
URL:https://www.filmhuismechelen.be/vertoning/un-triomphe-2/
LOCATION:Minderbroedersgang 5\, Mechelen\, 2800
CATEGORIES:Programma
END:VEVENT
END:VCALENDAR