BEGIN:VCALENDAR
VERSION:2.0
PRODID:-//Filmhuis Mechelen - ECPv4.3.1.1//NONSGML v1.0//EN
CALSCALE:GREGORIAN
METHOD:PUBLISH
X-WR-CALNAME:Filmhuis Mechelen
X-ORIGINAL-URL:https://www.filmhuismechelen.be
X-WR-CALDESC:Events for Filmhuis Mechelen
BEGIN:VEVENT
DTSTART;TZID=UTC+2:20190402T183000
DTEND;TZID=UTC+2:20190402T183000
DTSTAMP:20260421T162500
CREATED:20190307T155709Z
LAST-MODIFIED:20190318T175836Z
UID:11589-1554229800-1554229800@www.filmhuismechelen.be
SUMMARY:TRIO
DESCRIPTION:Vertoningen:\nDINSDAG 26 MAART om 20u45.\nDINSDAG 2 APRIL om 18u30.\n\nAlle info en trailer HIER!\n\n
URL:https://www.filmhuismechelen.be/vertoning/trio-3/
CATEGORIES:De dinsdagen van het Filmhuis,Programma
END:VEVENT
END:VCALENDAR