BEGIN:VCALENDAR
VERSION:2.0
PRODID:-//Filmhuis Mechelen - ECPv4.3.1.1//NONSGML v1.0//EN
CALSCALE:GREGORIAN
METHOD:PUBLISH
X-WR-CALNAME:Filmhuis Mechelen
X-ORIGINAL-URL:https://www.filmhuismechelen.be
X-WR-CALDESC:Events for Filmhuis Mechelen
BEGIN:VEVENT
DTSTART;TZID=UTC+2:20190326T204500
DTEND;TZID=UTC+2:20190326T204500
DTSTAMP:20260421T145617
CREATED:20190228T155719Z
LAST-MODIFIED:20190318T175812Z
UID:11513-1553633100-1553633100@www.filmhuismechelen.be
SUMMARY:TRIO
DESCRIPTION:Vertoningen:\nDINSDAG 26 MAART om 20u45.\nDINSDAG 2 APRIL om 18u30.\n\nAlle info & trailer HIER!\n\n
URL:https://www.filmhuismechelen.be/vertoning/trio-2/
CATEGORIES:De dinsdagen van het Filmhuis,Programma
END:VEVENT
END:VCALENDAR