BEGIN:VCALENDAR
VERSION:2.0
PRODID:-//Filmhuis Mechelen - ECPv4.3.1.1//NONSGML v1.0//EN
CALSCALE:GREGORIAN
METHOD:PUBLISH
X-WR-CALNAME:Filmhuis Mechelen
X-ORIGINAL-URL:https://www.filmhuismechelen.be
X-WR-CALDESC:Events for Filmhuis Mechelen
BEGIN:VEVENT
DTSTART;TZID=UTC+2:20211122T183000
DTEND;TZID=UTC+2:20211122T183000
DTSTAMP:20260422T182322
CREATED:20211021T124950Z
LAST-MODIFIED:20211116T195227Z
UID:23442-1637605800-1637605800@www.filmhuismechelen.be
SUMMARY:TOUT S'EST BIEN PASSÉ
DESCRIPTION:Vertoningen:\nMAANDAG 22 NOVEMBER om 18u30 - tickets voor deze vertoning HIER!\nDINSDAG 23 NOVEMBER om 18u30 - tickets voor deze vertoning HIER!\n\nTIP: koop eerst uw SEIZOENSKAART en bespaar zo 2 euro per vertoning!\n\nALLE INFO\, TRAILER & RECENSIES HIER!\n\n
URL:https://www.filmhuismechelen.be/vertoning/tout-sest-bien-passe-3/
LOCATION:Minderbroedersgang 5\, Mechelen\, 2800
CATEGORIES:Programma
END:VEVENT
END:VCALENDAR