BEGIN:VCALENDAR
VERSION:2.0
PRODID:-//Filmhuis Mechelen - ECPv4.3.1.1//NONSGML v1.0//EN
CALSCALE:GREGORIAN
METHOD:PUBLISH
X-WR-CALNAME:Filmhuis Mechelen
X-ORIGINAL-URL:https://www.filmhuismechelen.be
X-WR-CALDESC:Events for Filmhuis Mechelen
BEGIN:VEVENT
DTSTART;TZID=UTC+2:20211123T183000
DTEND;TZID=UTC+2:20211123T183000
DTSTAMP:20260422T182948
CREATED:20211021T101828Z
LAST-MODIFIED:20211122T180246Z
UID:23427-1637692200-1637692200@www.filmhuismechelen.be
SUMMARY:TOUT S'EST BIEN PASSÉ
DESCRIPTION:Vertoning:\nDINSDAG 23 NOVEMBER om 18u30 - tickets voor deze vertoning HIER!\n\nTIP: koop eerst uw SEIZOENSKAART en bespaar zo 2 euro per vertoning!\n\nALLE INFO\, TRAILER & RECENSIES HIER!\n\n
URL:https://www.filmhuismechelen.be/vertoning/tout-sest-bien-passe-2/
LOCATION:Minderbroedersgang 5\, Mechelen\, 2800
CATEGORIES:De dinsdagen van het Filmhuis,Programma
END:VEVENT
END:VCALENDAR