BEGIN:VCALENDAR
VERSION:2.0
PRODID:-//Filmhuis Mechelen - ECPv4.3.1.1//NONSGML v1.0//EN
CALSCALE:GREGORIAN
METHOD:PUBLISH
X-WR-CALNAME:Filmhuis Mechelen
X-ORIGINAL-URL:https://www.filmhuismechelen.be
X-WR-CALDESC:Events for Filmhuis Mechelen
BEGIN:VEVENT
DTSTART;TZID=UTC+2:20180611T203000
DTEND;TZID=UTC+2:20180611T203000
DTSTAMP:20260425T213431
CREATED:20180406T152240Z
LAST-MODIFIED:20180406T152240Z
UID:9723-1528749000-1528749000@www.filmhuismechelen.be
SUMMARY:TOM OF FINLAND
DESCRIPTION:ART & FILM #09: TOM OF FINLAND.\n\nVertoning om 20u30.\n\nEen organisatie i.s.m. Academie Mechelen.\n\n\n
URL:https://www.filmhuismechelen.be/vertoning/tom-of-finland/
CATEGORIES:Programma
END:VEVENT
END:VCALENDAR