BEGIN:VCALENDAR
VERSION:2.0
PRODID:-//Filmhuis Mechelen - ECPv4.3.1.1//NONSGML v1.0//EN
CALSCALE:GREGORIAN
METHOD:PUBLISH
X-WR-CALNAME:Filmhuis Mechelen
X-ORIGINAL-URL:https://www.filmhuismechelen.be
X-WR-CALDESC:Events for Filmhuis Mechelen
BEGIN:VEVENT
DTSTART;TZID=UTC+2:20180305T203000
DTEND;TZID=UTC+2:20180305T203000
DTSTAMP:20260425T122837
CREATED:20180112T162854Z
LAST-MODIFIED:20180112T173701Z
UID:9204-1520281800-1520281800@www.filmhuismechelen.be
SUMMARY:TODO SOBRE MI MADRE
DESCRIPTION:Vertoning om 20u30.\n\nEen organisatie i.s.m. Arsenaal/Lazarus\,\nn.a.v. hun voorstelling 'Muy Complicado'.\n\n
URL:https://www.filmhuismechelen.be/vertoning/todo-sobre-mi-madre/
CATEGORIES:Klassiekers,Programma
END:VEVENT
END:VCALENDAR