BEGIN:VCALENDAR
VERSION:2.0
PRODID:-//Filmhuis Mechelen - ECPv4.3.1.1//NONSGML v1.0//EN
CALSCALE:GREGORIAN
METHOD:PUBLISH
X-WR-CALNAME:Filmhuis Mechelen
X-ORIGINAL-URL:https://www.filmhuismechelen.be
X-WR-CALDESC:Events for Filmhuis Mechelen
BEGIN:VEVENT
DTSTART;TZID=UTC+2:20180130T183000
DTEND;TZID=UTC+2:20180130T183000
DTSTAMP:20260425T122710
CREATED:20171123T170330Z
LAST-MODIFIED:20171123T170330Z
UID:8680-1517337000-1517337000@www.filmhuismechelen.be
SUMMARY:THELMA
DESCRIPTION:TWEE VERTONINGEN!\nVertoning 1 om 18u30.\nVertoning 2 om 20u30.\n\n\n
URL:https://www.filmhuismechelen.be/vertoning/thelma/
CATEGORIES:De dinsdagen van het Filmhuis,Programma
END:VEVENT
END:VCALENDAR