BEGIN:VCALENDAR
VERSION:2.0
PRODID:-//Filmhuis Mechelen - ECPv4.3.1.1//NONSGML v1.0//EN
CALSCALE:GREGORIAN
METHOD:PUBLISH
X-WR-CALNAME:Filmhuis Mechelen
X-ORIGINAL-URL:https://www.filmhuismechelen.be
X-WR-CALDESC:Events for Filmhuis Mechelen
BEGIN:VEVENT
DTSTART;TZID=UTC+2:20220124T204000
DTEND;TZID=UTC+2:20220124T204000
DTSTAMP:20260421T074350
CREATED:20220103T130751Z
LAST-MODIFIED:20220118T174015Z
UID:24086-1643056800-1643056800@www.filmhuismechelen.be
SUMMARY:THE WORST PERSON IN THE WORLD
DESCRIPTION:Vertoningen:\nMAANDAG 24 JANUARI om 20u40 - TICKETS voor deze vertoning HIER!\nDINSDAG 25 JANUARI om 20u30 - TICKETS voor deze vertoning HIER!\n\nTIP: koop eerst een SEIZOENSKAART\, en bespaar zo 2 euro per ticket.\n\nALLE INFO & TRAILER HIER!\n\n
URL:https://www.filmhuismechelen.be/vertoning/the-worst-person-in-the-world-2/
LOCATION:Minderbroedersgang 5\, Mechelen\, 2800
CATEGORIES:Programma
END:VEVENT
END:VCALENDAR