BEGIN:VCALENDAR
VERSION:2.0
PRODID:-//Filmhuis Mechelen - ECPv4.3.1.1//NONSGML v1.0//EN
CALSCALE:GREGORIAN
METHOD:PUBLISH
X-WR-CALNAME:Filmhuis Mechelen
X-ORIGINAL-URL:https://www.filmhuismechelen.be
X-WR-CALDESC:Events for Filmhuis Mechelen
BEGIN:VEVENT
DTSTART;TZID=UTC+2:20181210T183000
DTEND;TZID=UTC+2:20181210T183000
DTSTAMP:20260423T103155
CREATED:20181109T161447Z
LAST-MODIFIED:20181205T002654Z
UID:10708-1544466600-1544466600@www.filmhuismechelen.be
SUMMARY:THE WIFE
DESCRIPTION:Vertoning:\nMAANDAG 10 DECEMBER om 18u30.\n\n
URL:https://www.filmhuismechelen.be/vertoning/the-wife/
CATEGORIES:Programma
END:VEVENT
END:VCALENDAR