BEGIN:VCALENDAR
VERSION:2.0
PRODID:-//Filmhuis Mechelen - ECPv4.3.1.1//NONSGML v1.0//EN
CALSCALE:GREGORIAN
METHOD:PUBLISH
X-WR-CALNAME:Filmhuis Mechelen
X-ORIGINAL-URL:https://www.filmhuismechelen.be
X-WR-CALDESC:Events for Filmhuis Mechelen
BEGIN:VEVENT
DTSTART;TZID=UTC+2:20181204T203000
DTEND;TZID=UTC+2:20181204T203000
DTSTAMP:20260423T120959
CREATED:20181113T090020Z
LAST-MODIFIED:20181113T090020Z
UID:10753-1543955400-1543955400@www.filmhuismechelen.be
SUMMARY:THE WIFE
DESCRIPTION:Vertoningen:\nDINSDAG 4 DECEMBER om 18u30.\nDINSDAG 4 DECEMBER om 20u30.\n\nMAANDAG 10 DECEMBER om 18u30.\n\n\n
URL:https://www.filmhuismechelen.be/vertoning/the-wife-3/
CATEGORIES:De dinsdagen van het Filmhuis,Programma
END:VEVENT
END:VCALENDAR