BEGIN:VCALENDAR
VERSION:2.0
PRODID:-//Filmhuis Mechelen - ECPv4.3.1.1//NONSGML v1.0//EN
CALSCALE:GREGORIAN
METHOD:PUBLISH
X-WR-CALNAME:Filmhuis Mechelen
X-ORIGINAL-URL:https://www.filmhuismechelen.be
X-WR-CALDESC:Events for Filmhuis Mechelen
BEGIN:VEVENT
DTSTART;TZID=UTC+2:20260209T203000
DTEND;TZID=UTC+2:20260209T203000
DTSTAMP:20260419T162258
CREATED:20260109T152955Z
LAST-MODIFIED:20260205T172231Z
UID:36656-1770669000-1770669000@www.filmhuismechelen.be
SUMMARY:THE VOICE OF HIND RAJAB
DESCRIPTION:Vertoningen:\n- DONDERDAG 5 FEBRUARI om 18u30 - tickets HIER!\n- MAANDAG 9 FEBRUARI om 20u30 - tickets HIER!\n\nEXTRA: de vertoning van maandag 9 februari wordt ingeleid door Martijn Lauwens\, auteur van het boek ‘De schande van Gaza’.\n\nTIP: koop eerst HIER een Filmhuis-seizoenskaart\, en bespaar zo een heel seizoen lang 2 euro per vertoning!\n\nALLE INFO & TRAILER HIER!\n\n\n\nDe pers over 'THE VOICE OF HIND RAJAB':\n\n''The Voice of Hind Rajab'’ is één van de aangrijpendste films van het jaar.' (★★★★) - Humo\n‘'Een hartverscheurende en gedurfde trip\, op de grens tussen fictie en documentaire. Het is een wraakroepend relaas dat de filmwereld mijlenver overstijgt. Laat er geen ontkomen zijn aan de stem van Hind Rajab.' (★★★★) - De Standaard\n''The Voice of Hind Rajab' is een film die u niet met plezier zal bekijken\, maar die u wel gezien moet hebben. Dat bent u aan de 5-jarige Hind Rajab verplicht.' (★★★★) - De Morgen\n 
URL:https://www.filmhuismechelen.be/vertoning/the-voice-of-hind-rajab-3/
LOCATION:Oude Brusselsestraat 10\, Mechelen\, 2800\, België
CATEGORIES:Programma
END:VEVENT
END:VCALENDAR