BEGIN:VCALENDAR
VERSION:2.0
PRODID:-//Filmhuis Mechelen - ECPv4.3.1.1//NONSGML v1.0//EN
CALSCALE:GREGORIAN
METHOD:PUBLISH
X-WR-CALNAME:Filmhuis Mechelen
X-ORIGINAL-URL:https://www.filmhuismechelen.be
X-WR-CALDESC:Events for Filmhuis Mechelen
BEGIN:VEVENT
DTSTART;TZID=UTC+1:20200131T204000
DTEND;TZID=UTC+1:20200131T204000
DTSTAMP:20260420T155944
CREATED:20200109T152958Z
LAST-MODIFIED:20200127T183034Z
UID:13527-1580503200-1580503200@www.filmhuismechelen.be
SUMMARY:THE TWO POPES
DESCRIPTION:Vertoningen:\nVRIJDAG 31 JANUARI om 20u40.\nMAANDAG 3 FEBRUARI om 20u30.\nMAANDAG 10 FEBRUARI om 18u30.\n\nALLE INFO\, TRAILER & RECENSIES HIER!\n\n\n\nKijkwijzer:\n\n\n 
URL:https://www.filmhuismechelen.be/vertoning/the-two-popes/
CATEGORIES:Programma
END:VEVENT
END:VCALENDAR