BEGIN:VCALENDAR
VERSION:2.0
PRODID:-//Filmhuis Mechelen - ECPv4.3.1.1//NONSGML v1.0//EN
CALSCALE:GREGORIAN
METHOD:PUBLISH
X-WR-CALNAME:Filmhuis Mechelen
X-ORIGINAL-URL:https://www.filmhuismechelen.be
X-WR-CALDESC:Events for Filmhuis Mechelen
BEGIN:VEVENT
DTSTART;TZID=UTC+2:20171127T203000
DTEND;TZID=UTC+2:20171127T203000
DTSTAMP:20260425T143603
CREATED:20171011T184459Z
LAST-MODIFIED:20171026T222518Z
UID:8355-1511814600-1511814600@www.filmhuismechelen.be
SUMMARY:THE ROAD TO MANDALAY
DESCRIPTION:Vertoning om 20u30.\n\nDe opbrengst gaat integraal naar Kom Op Tegen Kanker.\n\nEen organisatie i.s.m. Mechelen Mondiaal\, in het kader van Ciné Horizon.\n\nAlle info over deze voorstelling vindt u HIER.\n\n
URL:https://www.filmhuismechelen.be/vertoning/the-road-to-mandalay/
CATEGORIES:Programma
END:VEVENT
END:VCALENDAR