BEGIN:VCALENDAR
VERSION:2.0
PRODID:-//Filmhuis Mechelen - ECPv4.3.1.1//NONSGML v1.0//EN
CALSCALE:GREGORIAN
METHOD:PUBLISH
X-WR-CALNAME:Filmhuis Mechelen
X-ORIGINAL-URL:https://www.filmhuismechelen.be
X-WR-CALDESC:Events for Filmhuis Mechelen
BEGIN:VEVENT
DTSTART;TZID=UTC+2:20220118T204000
DTEND;TZID=UTC+2:20220118T204000
DTSTAMP:20260421T074335
CREATED:20220103T191708Z
LAST-MODIFIED:20220112T184411Z
UID:24108-1642538400-1642538400@www.filmhuismechelen.be
SUMMARY:THE POWER OF THE DOG
DESCRIPTION:Vertoningen:\nDINSDAG 18 JANUARI om 20u40 - TICKETS voor deze vertoning HIER!\nMAANDAG 24 JANUARI om 18u30 - TICKETS voor deze vertoning HIER!\nDINSDAG 8 FEBRUARI om 18u30 -  TICKETS voor deze vertoning HIER!\n\nTIP: koop eerst een SEIZOENSKAART\, en bespaar zo 2 euro per ticket.\n\nALLE INFO & TRAILER HIER!\n\n\n\n 
URL:https://www.filmhuismechelen.be/vertoning/the-power-of-the-dog/
LOCATION:Minderbroedersgang 5\, Mechelen\, 2800
CATEGORIES:De dinsdagen van het Filmhuis,Programma
END:VEVENT
END:VCALENDAR