BEGIN:VCALENDAR
VERSION:2.0
PRODID:-//Filmhuis Mechelen - ECPv4.3.1.1//NONSGML v1.0//EN
CALSCALE:GREGORIAN
METHOD:PUBLISH
X-WR-CALNAME:Filmhuis Mechelen
X-ORIGINAL-URL:https://www.filmhuismechelen.be
X-WR-CALDESC:Events for Filmhuis Mechelen
BEGIN:VEVENT
DTSTART;TZID=UTC+2:20220208T183000
DTEND;TZID=UTC+2:20220208T183000
DTSTAMP:20260421T111929
CREATED:20220103T192329Z
LAST-MODIFIED:20220208T175411Z
UID:24114-1644345000-1644345000@www.filmhuismechelen.be
SUMMARY:THE POWER OF THE DOG
DESCRIPTION:Vertoning:\nDINSDAG 8 FEBRUARI om 18u30 \n\nTIP: koop eerst een SEIZOENSKAART\, en bespaar zo 2 euro per ticket.\n\nALLE INFO & TRAILER HIER!\n\n
URL:https://www.filmhuismechelen.be/vertoning/the-power-of-the-dog-3/
LOCATION:Minderbroedersgang 5\, Mechelen\, 2800
CATEGORIES:De dinsdagen van het Filmhuis,Programma
END:VEVENT
END:VCALENDAR