BEGIN:VCALENDAR
VERSION:2.0
PRODID:-//Filmhuis Mechelen - ECPv4.3.1.1//NONSGML v1.0//EN
CALSCALE:GREGORIAN
METHOD:PUBLISH
X-WR-CALNAME:Filmhuis Mechelen
X-ORIGINAL-URL:https://www.filmhuismechelen.be
X-WR-CALDESC:Events for Filmhuis Mechelen
BEGIN:VEVENT
DTSTART;TZID=UTC+2:20180109T203000
DTEND;TZID=UTC+2:20180109T203000
DTSTAMP:20260425T141141
CREATED:20171125T193908Z
LAST-MODIFIED:20171221T100735Z
UID:8694-1515529800-1515529800@www.filmhuismechelen.be
SUMMARY:THE PARTY
DESCRIPTION:DRIE VERTONINGEN!\nDinsdag 9/1 om 18u30.\nDinsdag 9/1 om 20u30.\nMaandag 15/1 om 18u30.\n\nAchteraf bieden we alle aanwezigen een gratis nieuwsjaarsdrankje aan. Party!\n\n
URL:https://www.filmhuismechelen.be/vertoning/the-party-2/
CATEGORIES:De dinsdagen van het Filmhuis,Programma
END:VEVENT
END:VCALENDAR