BEGIN:VCALENDAR
VERSION:2.0
PRODID:-//Filmhuis Mechelen - ECPv4.3.1.1//NONSGML v1.0//EN
CALSCALE:GREGORIAN
METHOD:PUBLISH
X-WR-CALNAME:Filmhuis Mechelen
X-ORIGINAL-URL:https://www.filmhuismechelen.be
X-WR-CALDESC:Events for Filmhuis Mechelen
BEGIN:VEVENT
DTSTART;TZID=UTC+2:20201006T201500
DTEND;TZID=UTC+2:20201006T201500
DTSTAMP:20260421T035135
CREATED:20200904T104448Z
LAST-MODIFIED:20201006T185122Z
UID:17866-1602015300-1602015300@www.filmhuismechelen.be
SUMMARY:THE PAINTED BIRD
DESCRIPTION:Koop uw tickets online (maximum in bubbel van 5):\n\nTIP: koop eerst uw Filmhuis-seizoenkaart HIER\, u geniet dan van 2 euro korting per film!\n\n \n\nMAANDAG 19 OKTOBER om 20u15.\n(let op het ongewone beginuur!)\nTickets voor deze vertoning HIER!\n\nOPGELET: deze film is niet geschikt voor gevoelige kijkers.\n\nALLE INFO\, TRAILER & RECENSIES HIER!\n\n\n\nKijkwijzer:\n\n\n 
URL:https://www.filmhuismechelen.be/vertoning/the-painted-bird/
CATEGORIES:De dinsdagen van het Filmhuis,Programma
END:VEVENT
END:VCALENDAR