BEGIN:VCALENDAR
VERSION:2.0
PRODID:-//Filmhuis Mechelen - ECPv4.3.1.1//NONSGML v1.0//EN
CALSCALE:GREGORIAN
METHOD:PUBLISH
X-WR-CALNAME:Filmhuis Mechelen
X-ORIGINAL-URL:https://www.filmhuismechelen.be
X-WR-CALDESC:Events for Filmhuis Mechelen
BEGIN:VEVENT
DTSTART;TZID=UTC+2:20170613T203000
DTEND;TZID=UTC+2:20170613T203000
DTSTAMP:20260426T021049
CREATED:20170428T230956Z
LAST-MODIFIED:20170428T230956Z
UID:7647-1497385800-1497385800@www.filmhuismechelen.be
SUMMARY:THE OTHER SIDE OF HOPE + LA PATROUILLE + SLOTFEEST 2016-17
DESCRIPTION:Onze slotvertoning van het seizoen 2016-17\, gevolgd door ons traditionele slotfeest met een optreden van La Patrouille!\n\n\n
URL:https://www.filmhuismechelen.be/vertoning/the-other-side-of-hope-la-patrouille-slotfeest-2016-17/
CATEGORIES:De dinsdagen van het Filmhuis,Programma
END:VEVENT
END:VCALENDAR