BEGIN:VCALENDAR
VERSION:2.0
PRODID:-//Filmhuis Mechelen - ECPv4.3.1.1//NONSGML v1.0//EN
CALSCALE:GREGORIAN
METHOD:PUBLISH
X-WR-CALNAME:Filmhuis Mechelen
X-ORIGINAL-URL:https://www.filmhuismechelen.be
X-WR-CALDESC:Events for Filmhuis Mechelen
BEGIN:VEVENT
DTSTART;TZID=UTC+2:20200921T183000
DTEND;TZID=UTC+2:20200921T183000
DTSTAMP:20260421T040916
CREATED:20200829T174457Z
LAST-MODIFIED:20200921T200550Z
UID:17695-1600713000-1600713000@www.filmhuismechelen.be
SUMMARY:THE LIGHTHOUSE
DESCRIPTION:Kies de gewenste vertoning en koop uw tickets (maximum in bubbel van 5):\n\nTIP: koop eerst uw Filmhuis-seizoenkaart HIER\, u geniet dan van 2 euro korting per film!\n\nDINSDAG 22 SEPTEMBER om 18u30.\nTickets voor deze vertoning HIER!\n\nALLE INFO\, TRAILER & RECENSIES HIER!\n\n\n\nKijkwijzer:\n\n\n 
URL:https://www.filmhuismechelen.be/vertoning/the-lighthouse/
CATEGORIES:Programma
END:VEVENT
END:VCALENDAR