BEGIN:VCALENDAR
VERSION:2.0
PRODID:-//Filmhuis Mechelen - ECPv4.3.1.1//NONSGML v1.0//EN
CALSCALE:GREGORIAN
METHOD:PUBLISH
X-WR-CALNAME:Filmhuis Mechelen
X-ORIGINAL-URL:https://www.filmhuismechelen.be
X-WR-CALDESC:Events for Filmhuis Mechelen
BEGIN:VEVENT
DTSTART;TZID=UTC+2:20191210T193000
DTEND;TZID=UTC+2:20191210T193000
DTSTAMP:20260421T050558
CREATED:20191003T112303Z
LAST-MODIFIED:20191204T183403Z
UID:12708-1576006200-1576006200@www.filmhuismechelen.be
SUMMARY:THE IRISHMAN
DESCRIPTION:Vertoningen:\nDINSDAG 10 DECEMBER om 19u30. (vertoning zonder pauze)\nDONDERDAG 19 DECEMBER om 19u00. (vertoning met pauze)\nVRIJDAG 20 DECEMBER om 19u00. (vertoning met pauze)\n\nLet op de ongewone aanvangsuren!\n\nALLE INFO\, TRAILER & RECENSIES HIER!\n\n
URL:https://www.filmhuismechelen.be/vertoning/the-irishman/
CATEGORIES:De dinsdagen van het Filmhuis,Programma
END:VEVENT
END:VCALENDAR