BEGIN:VCALENDAR
VERSION:2.0
PRODID:-//Filmhuis Mechelen - ECPv4.3.1.1//NONSGML v1.0//EN
CALSCALE:GREGORIAN
METHOD:PUBLISH
X-WR-CALNAME:Filmhuis Mechelen
X-ORIGINAL-URL:https://www.filmhuismechelen.be
X-WR-CALDESC:Events for Filmhuis Mechelen
BEGIN:VEVENT
DTSTART;TZID=UTC+2:20181009T203000
DTEND;TZID=UTC+2:20181009T203000
DTSTAMP:20260422T013718
CREATED:20180829T115424Z
LAST-MODIFIED:20180905T130232Z
UID:10208-1539117000-1539117000@www.filmhuismechelen.be
SUMMARY:THE GUILTY (DEN SKYLDIGE)
DESCRIPTION:Vertoningen op:\nDINSDAG 9 OKTOBER om 18u30.\nDINSDAG 9 OKTOBER om 20u30.\nMAANDAG 15 OKTOBER om 18u30.\n\nAlle info\, trailer en recensies vindt u HIER!\n\n\n
URL:https://www.filmhuismechelen.be/vertoning/the-guilty-den-skyldige-2/
CATEGORIES:De dinsdagen van het Filmhuis,Programma
END:VEVENT
END:VCALENDAR