BEGIN:VCALENDAR
VERSION:2.0
PRODID:-//Filmhuis Mechelen - ECPv4.3.1.1//NONSGML v1.0//EN
CALSCALE:GREGORIAN
METHOD:PUBLISH
X-WR-CALNAME:Filmhuis Mechelen
X-ORIGINAL-URL:https://www.filmhuismechelen.be
X-WR-CALDESC:Events for Filmhuis Mechelen
BEGIN:VEVENT
DTSTART;TZID=UTC+2:20220225T204000
DTEND;TZID=UTC+2:20220225T204000
DTSTAMP:20260421T123532
CREATED:20220202T124830Z
LAST-MODIFIED:20220207T125928Z
UID:24463-1645821600-1645821600@www.filmhuismechelen.be
SUMMARY:THE FRENCH DISPATCH
DESCRIPTION:Vertoningen:\n- VRIJDAG 25 FEBRUARI om 20u40 – tickets voor deze vertoning HIER!\n- MAANDAG 28 FEBRUARI om 18u30 – tickets voor deze vertoning HIER!\n- DINSDAG 1 MAART om 20u30 - tickets voor deze vertoning HIER!\n\nTIP: koop eerst een SEIZOENSKAART\, en bespaar zo 2 euro per ticket.\n\nALLE INFO & TRAILER HIER!\n\n
URL:https://www.filmhuismechelen.be/vertoning/the-french-dispatch/
LOCATION:Minderbroedersgang 5\, Mechelen\, 2800
CATEGORIES:Programma
END:VEVENT
END:VCALENDAR