BEGIN:VCALENDAR
VERSION:2.0
PRODID:-//Filmhuis Mechelen - ECPv4.3.1.1//NONSGML v1.0//EN
CALSCALE:GREGORIAN
METHOD:PUBLISH
X-WR-CALNAME:Filmhuis Mechelen
X-ORIGINAL-URL:https://www.filmhuismechelen.be
X-WR-CALDESC:Events for Filmhuis Mechelen
BEGIN:VEVENT
DTSTART;TZID=UTC+2:20180206T183000
DTEND;TZID=UTC+2:20180206T183000
DTSTAMP:20260425T122823
CREATED:20180116T093427Z
LAST-MODIFIED:20180116T093427Z
UID:9267-1517941800-1517941800@www.filmhuismechelen.be
SUMMARY:THE FLORIDA PROJECT
DESCRIPTION:DRIE VERTONINGEN!\nDinsdag 6 februari om 18u30.\nDinsdag 6 februari om 20u30.\nMaandag 12 februari om 18u30.\n\n
URL:https://www.filmhuismechelen.be/vertoning/the-florida-project-3/
CATEGORIES:De dinsdagen van het Filmhuis,Programma
END:VEVENT
END:VCALENDAR