BEGIN:VCALENDAR
VERSION:2.0
PRODID:-//Filmhuis Mechelen - ECPv4.3.1.1//NONSGML v1.0//EN
CALSCALE:GREGORIAN
METHOD:PUBLISH
X-WR-CALNAME:Filmhuis Mechelen
X-ORIGINAL-URL:https://www.filmhuismechelen.be
X-WR-CALDESC:Events for Filmhuis Mechelen
BEGIN:VEVENT
DTSTART;TZID=UTC+2:20190604T203000
DTEND;TZID=UTC+2:20190604T203000
DTSTAMP:20260421T010858
CREATED:20190522T121354Z
LAST-MODIFIED:20190603T165708Z
UID:12070-1559680200-1559680200@www.filmhuismechelen.be
SUMMARY:THE FAVOURITE
DESCRIPTION:Vertoningen:\nDINSDAG 4 JUNI om 18u30.\nDINSDAG 4 JUNI om 20u40.\n\nALLE INFO\, TRAILER EN RECENSIES HIER!\n\n
URL:https://www.filmhuismechelen.be/vertoning/the-favourite-3/
CATEGORIES:De dinsdagen van het Filmhuis,Programma
END:VEVENT
END:VCALENDAR