BEGIN:VCALENDAR
VERSION:2.0
PRODID:-//Filmhuis Mechelen - ECPv4.3.1.1//NONSGML v1.0//EN
CALSCALE:GREGORIAN
METHOD:PUBLISH
X-WR-CALNAME:Filmhuis Mechelen
X-ORIGINAL-URL:https://www.filmhuismechelen.be
X-WR-CALDESC:Events for Filmhuis Mechelen
BEGIN:VEVENT
DTSTART;TZID=UTC+2:20220613T183000
DTEND;TZID=UTC+2:20220613T183000
DTSTAMP:20260423T151514
CREATED:20220518T214423Z
LAST-MODIFIED:20220530T185622Z
UID:25786-1655145000-1655145000@www.filmhuismechelen.be
SUMMARY:THE DUKE
DESCRIPTION:Vertoningen:\n- MAANDAG 13 JUNI om 18u30 - tickets voor deze vertoning HIER!\n- DINSDAG 14 JUNI om 18u30 - tickets voor deze vertoning HIER!\n- DINSDAG 21 JUNI om 20u30 - tickets voor deze vertoning HIER!\n\nTIP: koop eerst een SEIZOENSKAART\, en bespaar zo 2 euro per ticket.\n\nAlle info\, trailer & tickets HIER!\n\n
URL:https://www.filmhuismechelen.be/vertoning/the-duke-3/
LOCATION:Minderbroedersgang 5\, Mechelen\, 2800
CATEGORIES:Programma
END:VEVENT
END:VCALENDAR