BEGIN:VCALENDAR
VERSION:2.0
PRODID:-//Filmhuis Mechelen - ECPv4.3.1.1//NONSGML v1.0//EN
CALSCALE:GREGORIAN
METHOD:PUBLISH
X-WR-CALNAME:Filmhuis Mechelen
X-ORIGINAL-URL:https://www.filmhuismechelen.be
X-WR-CALDESC:Events for Filmhuis Mechelen
BEGIN:VEVENT
DTSTART;TZID=UTC+2:20171121T203000
DTEND;TZID=UTC+2:20171121T203000
DTSTAMP:20260425T143424
CREATED:20171019T112349Z
LAST-MODIFIED:20171026T222213Z
UID:8445-1511296200-1511296200@www.filmhuismechelen.be
SUMMARY:THE BIG SICK
DESCRIPTION:TWEE VERTONINGEN!\nVertoning 1 om 18u30.\nVertoning 2 om 20u30.\n\nAlle info over deze vertoning vindt u HIER.\n\n
URL:https://www.filmhuismechelen.be/vertoning/the-big-sick-2/
CATEGORIES:De dinsdagen van het Filmhuis,Programma
END:VEVENT
END:VCALENDAR