BEGIN:VCALENDAR
VERSION:2.0
PRODID:-//Filmhuis Mechelen - ECPv4.3.1.1//NONSGML v1.0//EN
CALSCALE:GREGORIAN
METHOD:PUBLISH
X-WR-CALNAME:Filmhuis Mechelen
X-ORIGINAL-URL:https://www.filmhuismechelen.be
X-WR-CALDESC:Events for Filmhuis Mechelen
BEGIN:VEVENT
DTSTART;TZID=UTC+1:20200324T183000
DTEND;TZID=UTC+1:20200324T183000
DTSTAMP:20260421T040845
CREATED:20200213T120857Z
LAST-MODIFIED:20200312T161105Z
UID:13863-1585074600-1585074600@www.filmhuismechelen.be
SUMMARY:SYSTEM CRASHER - verschoven naar latere datum
DESCRIPTION:OPGELET: deze vertoning is vanwege de corona-pandemie VERSCHOVEN NAAR EEN LATER TE BEPALEN DATUM!\n\nALLE INFO\, TRAILER & RECENSIES VINDT U HIER!\n\n\n\n \n\nKijkwijzer:\n\n\n 
URL:https://www.filmhuismechelen.be/vertoning/system-crasher-2/
CATEGORIES:De dinsdagen van het Filmhuis,Programma
END:VEVENT
END:VCALENDAR