BEGIN:VCALENDAR
VERSION:2.0
PRODID:-//Filmhuis Mechelen - ECPv4.3.1.1//NONSGML v1.0//EN
CALSCALE:GREGORIAN
METHOD:PUBLISH
X-WR-CALNAME:Filmhuis Mechelen
X-ORIGINAL-URL:https://www.filmhuismechelen.be
X-WR-CALDESC:Events for Filmhuis Mechelen
BEGIN:VEVENT
DTSTART;TZID=UTC+2:20181219T190000
DTEND;TZID=UTC+2:20181219T190000
DTSTAMP:20260421T195624
CREATED:20181217T144530Z
LAST-MODIFIED:20181217T144745Z
UID:11060-1545246000-1545246000@www.filmhuismechelen.be
SUMMARY:SPRINGSTOF - Première
DESCRIPTION:Vertoningen:\nWOENSDAG 19 DECEMBER om 19u00.\nWOENSDAG 19 DECEMBER om 19u30.\n\nInkom: 3 euro.\n\n\n\n\n \n\n
URL:https://www.filmhuismechelen.be/vertoning/springstof-premiere-2/
CATEGORIES:Kortfilm,Programma
END:VEVENT
END:VCALENDAR