BEGIN:VCALENDAR
VERSION:2.0
PRODID:-//Filmhuis Mechelen - ECPv4.3.1.1//NONSGML v1.0//EN
CALSCALE:GREGORIAN
METHOD:PUBLISH
X-WR-CALNAME:Filmhuis Mechelen
X-ORIGINAL-URL:https://www.filmhuismechelen.be
X-WR-CALDESC:Events for Filmhuis Mechelen
BEGIN:VEVENT
DTSTART;TZID=UTC+2:20171106T203000
DTEND;TZID=UTC+2:20171106T203000
DTSTAMP:20260425T154951
CREATED:20171018T153141Z
LAST-MODIFIED:20171026T221008Z
UID:8421-1510000200-1510000200@www.filmhuismechelen.be
SUMMARY:SILENCE
DESCRIPTION:Vertoning om 20u30.\n\nEen organisatie i.s.m. IJD/CCV.\n\nAlle info over deze voorstelling vindt u HIER.\n\n
URL:https://www.filmhuismechelen.be/vertoning/silence/
CATEGORIES:De dinsdagen van het Filmhuis,Programma
END:VEVENT
END:VCALENDAR