BEGIN:VCALENDAR
VERSION:2.0
PRODID:-//Filmhuis Mechelen - ECPv4.3.1.1//NONSGML v1.0//EN
CALSCALE:GREGORIAN
METHOD:PUBLISH
X-WR-CALNAME:Filmhuis Mechelen
X-ORIGINAL-URL:https://www.filmhuismechelen.be
X-WR-CALDESC:Events for Filmhuis Mechelen
BEGIN:VEVENT
DTSTART;TZID=UTC+2:20190205T203000
DTEND;TZID=UTC+2:20190205T203000
DTSTAMP:20260421T180720
CREATED:20181214T101818Z
LAST-MODIFIED:20190117T020128Z
UID:11020-1549398600-1549398600@www.filmhuismechelen.be
SUMMARY:SHOPLIFTERS
DESCRIPTION:Vertoningen:\nDINSDAG 5 FEBRUARI om 20u30.\nMAANDAG 11 FEBRUARI om 18u30.\n\nAlle info\, trailer en recensies vindt u HIER!\n\n
URL:https://www.filmhuismechelen.be/vertoning/shoplifters/
CATEGORIES:De dinsdagen van het Filmhuis,Programma
END:VEVENT
END:VCALENDAR