BEGIN:VCALENDAR
VERSION:2.0
PRODID:-//Filmhuis Mechelen - ECPv4.3.1.1//NONSGML v1.0//EN
CALSCALE:GREGORIAN
METHOD:PUBLISH
X-WR-CALNAME:Filmhuis Mechelen
X-ORIGINAL-URL:https://www.filmhuismechelen.be
X-WR-CALDESC:Events for Filmhuis Mechelen
BEGIN:VEVENT
DTSTART;TZID=UTC+2:20200218T183000
DTEND;TZID=UTC+2:20200218T183000
DTSTAMP:20260420T191725
CREATED:20200114T202907Z
LAST-MODIFIED:20200211T151854Z
UID:13614-1582050600-1582050600@www.filmhuismechelen.be
SUMMARY:SEULES LES BÊTES
DESCRIPTION:Vertoningen:\nDINSDAG 18 FEBRUARI om 18u30.\nDINSDAG 25 FEBRUARI om 20u30.\n\nALLE INFO\, TRAILER & RECENSIES HIER!\n\n\n\n\nKijkwijzer:\n\n\n \n\n 
URL:https://www.filmhuismechelen.be/vertoning/seules-les-betes/
CATEGORIES:De dinsdagen van het Filmhuis,Programma
END:VEVENT
END:VCALENDAR