BEGIN:VCALENDAR
VERSION:2.0
PRODID:-//Filmhuis Mechelen - ECPv4.3.1.1//NONSGML v1.0//EN
CALSCALE:GREGORIAN
METHOD:PUBLISH
X-WR-CALNAME:Filmhuis Mechelen
X-ORIGINAL-URL:https://www.filmhuismechelen.be
X-WR-CALDESC:Events for Filmhuis Mechelen
BEGIN:VEVENT
DTSTART;TZID=UTC+2:20200225T203000
DTEND;TZID=UTC+2:20200225T203000
DTSTAMP:20260420T173010
CREATED:20200114T203118Z
LAST-MODIFIED:20200218T180826Z
UID:13616-1582662600-1582662600@www.filmhuismechelen.be
SUMMARY:SEULES LES BÊTES
DESCRIPTION:Vertoning:\nDINSDAG 25 FEBRUARI om 20u30.\n\nALLE INFO\, TRAILER & RECENSIES HIER!\n\n\n\n\nKijkwijzer:\n\n\n \n\n 
URL:https://www.filmhuismechelen.be/vertoning/seules-les-betes-2/
CATEGORIES:De dinsdagen van het Filmhuis,Programma
END:VEVENT
END:VCALENDAR