BEGIN:VCALENDAR
VERSION:2.0
PRODID:-//Filmhuis Mechelen - ECPv4.3.1.1//NONSGML v1.0//EN
CALSCALE:GREGORIAN
METHOD:PUBLISH
X-WR-CALNAME:Filmhuis Mechelen
X-ORIGINAL-URL:https://www.filmhuismechelen.be
X-WR-CALDESC:Events for Filmhuis Mechelen
BEGIN:VEVENT
DTSTART;TZID=UTC+2:20190219T204500
DTEND;TZID=UTC+2:20190219T204500
DTSTAMP:20260421T101547
CREATED:20190129T141634Z
LAST-MODIFIED:20190213T194228Z
UID:11323-1550609100-1550609100@www.filmhuismechelen.be
SUMMARY:ROMA
DESCRIPTION:Vertoningen:\nDINSDAG 19 FEBRUARI om 18u30.\nDINSDAG 19 FEBRUARI om 20u45.\nDINSDAG 5 MAART om 18u30.\n\nExtra vertoning volgt!\n\nAlle info\, trailer en recensies vindt u HIER!\n\n
URL:https://www.filmhuismechelen.be/vertoning/roma-2/
CATEGORIES:De dinsdagen van het Filmhuis,Programma
END:VEVENT
END:VCALENDAR